-0.00000000000000
-0.09000000000000
-0.09000000000000
0.00000000000000
701327.62803314126000
269088.17704086978000
