-0.00000000000000
-0.09000000000000
-0.09000000000000
0.00000000000000
701348.62803314126000
271777.17704086978000
