-0.00000000000000
-0.09000000000000
-0.09000000000000
0.00000000000000
701345.62803314126000
274435.17704086978000
