-0.00000000000000
-0.09000000000000
-0.09000000000000
0.00000000000000
701351.62803314126000
276397.17704086978000
