0.00000000000000
0.09000000000000
0.09000000000000
-0.00000000000000
698417.37196685874000
254344.82295913019000
