0.00000000000000
0.09000000000000
0.09000000000000
-0.00000000000000
698410.37196685874000
254818.82295913019000
