0.00000000000000
0.09000000000000
0.09000000000000
-0.00000000000000
698407.37196685874000
257074.82295913019000
