0.00000000000000
0.09000000000000
0.09000000000000
-0.00000000000000
698430.37196685874000
258375.82295913019000
