0.00000000000000
0.09000000000000
0.09000000000000
-0.00000000000000
698429.37196685874000
260872.82295913019000
