0.00000000000000
0.09000000000000
0.09000000000000
-0.00000000000000
698432.37196685874000
262763.82295913022000
