0.00000000000000
0.09000000000000
0.09000000000000
-0.00000000000000
698437.37196685874000
263447.82295913022000
