0.00000000000000
0.09000000000000
0.09000000000000
-0.00000000000000
698435.37196685874000
267108.82295913022000
