0.00000000000000
0.09000000000000
0.09000000000000
-0.00000000000000
698450.37196685874000
271057.82295913022000
