0.00000000000000
0.09000000000000
0.09000000000000
-0.00000000000000
698447.37196685874000
271679.82295913022000
