0.00000000000000
0.09000000000000
0.09000000000000
-0.00000000000000
698465.37196685874000
274780.82295913022000
