0.00000000000000
0.09000000000000
0.09000000000000
-0.00000000000000
698465.37196685874000
276820.82295913022000
