-0.00000000000000
-0.09000000000000
-0.09000000000000
0.00000000000000
699057.62803314126000
260752.17704086981000
