-0.00000000000000
-0.09000000000000
-0.09000000000000
0.00000000000000
699057.62803314126000
263307.17704086978000
