-0.00000000000000
-0.09000000000000
-0.09000000000000
0.00000000000000
699075.62803314126000
272805.17704086978000
