-0.00000000000000
-0.09000000000000
-0.09000000000000
0.00000000000000
699088.62803314126000
276443.17704086978000
