-0.00000000000000
-0.09000000000000
-0.09000000000000
0.00000000000000
699093.62803314126000
277052.17704086978000
