0.00000000000000
0.09000000000000
0.09000000000000
-0.00000000000000
696211.37196685874000
253988.82295913019000
