0.00000000000000
0.09000000000000
0.09000000000000
-0.00000000000000
696188.37196685874000
256174.82295913019000
