0.00000000000000
0.09000000000000
0.09000000000000
-0.00000000000000
696221.37196685874000
260513.82295913019000
