0.00000000000000
0.09000000000000
0.09000000000000
-0.00000000000000
696254.37196685874000
270422.82295913022000
