0.00000000000000
0.09000000000000
0.09000000000000
-0.00000000000000
696247.37196685874000
271807.82295913022000
