-0.00000000000000
-0.09000000000000
-0.09000000000000
0.00000000000000
696798.62803314126000
257567.17704086981000
