-0.00000000000000
-0.09000000000000
-0.09000000000000
0.00000000000000
696796.62803314126000
258203.17704086981000
