-0.00000000000000
-0.09000000000000
-0.09000000000000
0.00000000000000
696824.62803314126000
263409.17704086978000
