-0.00000000000000
-0.09000000000000
-0.09000000000000
0.00000000000000
696863.62803314126000
271416.17704086978000
