-0.00000000000000
-0.09000000000000
-0.09000000000000
0.00000000000000
696879.62803314126000
276877.17704086978000
