-0.00000000000000
-0.09000000000000
-0.09000000000000
0.00000000000000
696886.62803314126000
277522.17704086978000
