-0.00000000000000
-0.09000000000000
-0.09000000000000
0.00000000000000
695747.62803314126000
268586.17704086978000
