-0.00000000000000
-0.09000000000000
-0.09000000000000
0.00000000000000
695771.62803314126000
270869.17704086978000
