-0.00000000000000
-0.09000000000000
-0.09000000000000
0.00000000000000
695810.62803314126000
277870.17704086978000
