-0.00000000000000
-0.09000000000000
-0.09000000000000
0.00000000000000
694604.62803314126000
263789.17704086978000
