-0.00000000000000
-0.09000000000000
-0.09000000000000
0.00000000000000
694670.62803314126000
271313.17704086978000
