-0.00000000000000
-0.09000000000000
-0.09000000000000
0.00000000000000
694675.62803314126000
271994.17704086978000
