-0.00000000000000
-0.09000000000000
-0.09000000000000
0.00000000000000
694685.62803314126000
274614.17704086978000
