-0.00000000000000
-0.09000000000000
-0.09000000000000
0.00000000000000
694707.62803314126000
276611.17704086978000
