0.00000000000000
0.09000000000000
0.09000000000000
-0.00000000000000
691845.37196685874000
270813.82295913022000
