0.00000000000000
0.09000000000000
0.09000000000000
-0.00000000000000
691853.37196685874000
271563.82295913022000
