0.00000000000000
0.09000000000000
0.09000000000000
-0.00000000000000
691881.37196685874000
274984.82295913022000
