0.00000000000000
0.09000000000000
0.09000000000000
-0.00000000000000
691873.37196685874000
275595.82295913022000
