0.00000000000000
0.09000000000000
0.09000000000000
-0.00000000000000
691889.37196685874000
276238.82295913022000
