0.00000000000000
0.09000000000000
0.09000000000000
-0.00000000000000
691897.37196685874000
280215.82295913022000
