0.00000000000000
0.09000000000000
0.09000000000000
-0.00000000000000
691913.37196685874000
281457.82295913022000
