-0.00000000000000
-0.09000000000000
-0.09000000000000
0.00000000000000
692398.62803314126000
267247.17704086978000
