-0.00000000000000
-0.09000000000000
-0.09000000000000
0.00000000000000
692400.62803314126000
267796.17704086978000
