-0.00000000000000
-0.09000000000000
-0.09000000000000
0.00000000000000
692394.62803314126000
268926.17704086978000
